BEGIN:VCALENDAR
VERSION:2.0
PRODID:-//FRAPRU - ECPv4.6.12//NONSGML v1.0//EN
CALSCALE:GREGORIAN
METHOD:PUBLISH
X-WR-CALNAME:FRAPRU
X-ORIGINAL-URL:http://www.frapru.qc.ca
X-WR-CALDESC:Events for FRAPRU
BEGIN:VEVENT
DTSTART;TZID=UTC-5:20180902T103000
DTEND;TZID=UTC-5:20180902T113000
DTSTAMP:20180627T230528
CREATED:20180503T151931Z
LAST-MODIFIED:20180515T153245Z
UID:5313-1535884200-1535887800@www.frapru.qc.ca
SUMMARY:Rassemblement de départ de la marche De villes en villages / Rally and March Departure
DESCRIPTION:Grande marche De villes en villages pour le droit au logement: Rassemblement de départ\nÀ Ottawa\,\ndevant le Parlement\nle 2 septembre 2018\, à 10h30\n\nAffiche\n\n\n\nFrom cities to villages for Right to housing\nRally and March Departure\nIn Ottawa\nSeptember 2nd\n10:30 am\nIn front of the Parliament \n\nPoster\n\n\n\n
URL:http://www.frapru.qc.ca/event/rassemblement-de-depart/
END:VEVENT
BEGIN:VEVENT
DTSTART;TZID=UTC-5:20180929T123000
DTEND;TZID=UTC-5:20180929T153000
DTSTAMP:20180627T230528
CREATED:20180417T205339Z
LAST-MODIFIED:20180530T161122Z
UID:5147-1538224200-1538235000@www.frapru.qc.ca
SUMMARY:Manifestation nationale de clôture de la grande marche De villes en villages pour le droit au logement
DESCRIPTION: \nDu 2 au 29 septembre 2018\, des militantes et militants pour le droit au logement ainsi que de nombreuses personnes alliées marcheront\, à relai\, les 500 km qui séparent les deux capitales. Après 28 jours\, la grande marche se terminera à Québec par une grande manifestation qui culminera devant l’Assemblée nationale\, à la veille des élections générales et de la Journée mondiale de l’habitat.  \nJoignez-vous au FRAPRU pour que le message qui sera porté\, de villes en villages\, soit bien compris des gouvernements\, soit que la société québécoise exige le respect du droit au logement. \n305 590 ménages du Québec ont des besoins impérieux de logement. Quotidiennement\, ils doivent vivre dans un logement trop cher\, trop petit\, non adapté\, non sécuritaire et-ou en mauvais état. \nMalgré l’urgence d’agir\, les gouvernements se trainent les pieds. Ottawa et Québec ne financent que 3000 nouveaux logements sociaux par année\, pour tout le Québec. En plus\, il faut une éternité pour les construire\, parce que les subventions gouvernementales sont insuffisantes. Dans les derniers 5 ans\, seulement 9953 logements sociaux ont été livrés. Pourtant\, ce n’est pas l’argent qui manque! \nTout au long de la marche de 500 km\, le FRAPRU\, ses membres et des organisations alliées interpellerons Québec et Ottawa sur les graves dénis du droit au logement qui perdurent\, et sur l’insuffisance des investissements dans le domaine du logement social\, malgré un contexte budgétaire favorable à Québec et la Stratégie canadienne sur le logement annoncée par Ottawa. Les groupes mettront notamment en lumière les problèmes particuliers rencontrés par les femmes\, les personnes les plus pauvres\, en situation de handicap\, aînées\, immigrantes\, analphabètes\, sans-statuts\, etc. Pour ses 500km\, la marche obtient l’appui de plus de 500 organisations de divers horizons\, des quatre coins de la province. \nPour répondre aux besoins les plus urgents\,de manière durable\, ça prend 50 000 nouveaux logements sociaux en 5 ans ! \nLe 29 septembre\, à Québec\, soyons en grand nombre pour accueillir le groupe de marcheurs et de marcheuses\, et marcher le dernier kilomètre vers l’Assemblée nationale. \nSur les plaines d’Abraham\, intersection Grande-Allée et avenue du Parc \n\n12h30: Rassemblement et accueil de la marche\n13h30: Départ de la manifestation\n\nTransport de différentes régions\, détails à venir. \nMatériel de mobilisation:\nAffiche\nÉvénement facebook \n
URL:http://www.frapru.qc.ca/event/manifestation-cloture/
END:VEVENT
END:VCALENDAR